BEGIN:VCALENDAR
VERSION:2.0
PRODID:-//Chenois Volley - ECPv6.1.3//NONSGML v1.0//EN
CALSCALE:GREGORIAN
METHOD:PUBLISH
X-WR-CALNAME:Chenois Volley
X-ORIGINAL-URL:https://chenoisvolley.ch
X-WR-CALDESC:évènements pour Chenois Volley
REFRESH-INTERVAL;VALUE=DURATION:PT1H
X-Robots-Tag:noindex
X-PUBLISHED-TTL:PT1H
BEGIN:VTIMEZONE
TZID:Europe/Zurich
BEGIN:DAYLIGHT
TZOFFSETFROM:+0100
TZOFFSETTO:+0200
TZNAME:CEST
DTSTART:20220327T010000
END:DAYLIGHT
BEGIN:STANDARD
TZOFFSETFROM:+0200
TZOFFSETTO:+0100
TZNAME:CET
DTSTART:20221030T010000
END:STANDARD
END:VTIMEZONE
BEGIN:VEVENT
DTSTART;TZID=Europe/Zurich:20221107T201500
DTEND;TZID=Europe/Zurich:20221107T201500
DTSTAMP:20260424T045801
CREATED:20221020T181544Z
LAST-MODIFIED:20231012T092947Z
UID:265581-1667852100-1667852100@chenoisvolley.ch
SUMMARY:F2 - Chênois Genève F2 VS Genève Volley 3
DESCRIPTION:Chênois Genève F2 VS Genève Volley 3
URL:https://chenoisvolley.ch/rendez-vous/f2-chenois-geneve-f2-vs-geneve-volley-3-07-11-22/
LOCATION:Collège Claparède 2
CATEGORIES:F2
END:VEVENT
END:VCALENDAR